BEGIN:VCALENDAR
VERSION:2.0
PRODID:-//Cloud Coachers - ECPv6.10.1.1//NONSGML v1.0//EN
CALSCALE:GREGORIAN
METHOD:PUBLISH
X-WR-CALNAME:Cloud Coachers
X-ORIGINAL-URL:https://www.cloudcoachers.com
X-WR-CALDESC:Eventos para Cloud Coachers
REFRESH-INTERVAL;VALUE=DURATION:PT1H
X-Robots-Tag:noindex
X-PUBLISHED-TTL:PT1H
BEGIN:VTIMEZONE
TZID:Europe/Madrid
BEGIN:DAYLIGHT
TZOFFSETFROM:+0100
TZOFFSETTO:+0200
TZNAME:CEST
DTSTART:20250330T010000
END:DAYLIGHT
BEGIN:STANDARD
TZOFFSETFROM:+0200
TZOFFSETTO:+0100
TZNAME:CET
DTSTART:20251026T010000
END:STANDARD
END:VTIMEZONE
BEGIN:VEVENT
DTSTART;TZID=Europe/Madrid:20251111T000000
DTEND;TZID=Europe/Madrid:20251126T000000
DTSTAMP:20260422T212344
CREATED:20251203T154409Z
LAST-MODIFIED:20251203T164409Z
UID:11174-1762819200-1764115200@www.cloudcoachers.com
SUMMARY:Marketing Cloud Email + Admin
DESCRIPTION:Información del curso:  \n\nCurso híbrido (presencial o en remoto) de Salesforce Marketing Cloud Essentials para profesionales de Marketing.\nRequisitos: se recomienda tener conocimientos de Email Marketing y Digital Marketing. \nEl "voucher" o derecho a presentarse al examen oficial de Certificación es opcional a la formación. \nDuración: 30 horas en 5 jornadas de 6 horas.\nHorario: de lunes a viernes\, de 9.00 a 15.00h.\nEste curso cubre Marketing Cloud Email Specialist (4 días) + Salesforce Certified Marketing Cloud Engagement Administrator (1 día)\n\n​ \nObjetivos:  \nConocer los mecanismos de Salesforce Marketing Cloud para el diseño y la automatización del proceso de envío de comunicaciones masivas multicanal (email\, móvil\, social y web) y el seguimiento y control del proceso. Foco en Journey Builder y Automation. Administrar y configurar la plataforma Marketing Cloud.  \n​ \nTemario:  \n\nMarketing Cloud Overview\nSubscriber and Data Management\nEmail Marketing Best Practices\nContent Creation and Delivery\nMarketing Automation\nInsights and Analytics\nSet up and Products\nDigital Marketing Proficiency\nChannel Management\nMaintenance\n\n​ \n¿Por qué hacer este curso?  \nPara aprender todo acerca de buenas prácticas sobre email marketing\, incluyendo el diseño de mensajes y el manejo de datos y suscriptores. Además\, aprenderás a configurar la herramienta y sus productos. \n​ \n¿A quién va dirigido? \nA todos aquellos especialistas en email marketing que gestionan canales de marketing en su organización. No se necesita experiencia previa en Marketing Cloud\, por lo que es un buen punto de partida para nuevos usuarios o para usuarios de la herramienta que buscan mejorar su uso. ​ \n \nLo que dicen nuestros alumnos: \n​ \n"Cloud Coachers supera las expectativas en cada curso\, gracias a un catálogo completo para todos los niveles\, y coachers con gran conocimiento y experiencia. Prima la calidad y cercanía humana durante las sesiones\, para acometer con seguridad la certificación!" \n"Ha sido muy positivo contar con una instructora que aportase su experiencia en Marketing en general y no solo el conocimiento en MKT Cloud en particular." \n"La experiencia vivida con Cloud Coachers durante el curso de Salesforce Marketing Cloud Essentials ha sido fantástica. Muy recomendables por el alto conocimiento sobre Email Marketing y Social Studio y su amplia experiencia en Marketing." \n"El curso esta genial y es un intensivo perfecto para aprender "metiéndote caña en casa". Se tocan los aspecto esenciales (Marketing Cloud Essentials)." \n"Muy buena metodología\, muy buena preparación de los profesores\, muy buena la resolución de problemas\, etc etc. Si puedo\, repito." \n"Cloud Coachers es "la escuela" para estudiar herramientas Salesforce\, sin duda. Los conozco desde hace 3 años y he realizado tres cursos de diferentes nubes de Salesforce\, con tres profesores distintos: cada curso ha sido un acierto\, los instructores son excelentes\, tienen un gran conocimiento de las nubes y mucha experiencia como consultores en el mundo empresarial. En mi opinión\, un lujo tenerles como guías en mi propio customer journey." \n​ \n​
URL:https://www.cloudcoachers.com/curso/marketing-cloud-email-admin-52/
LOCATION:Virtual
END:VEVENT
BEGIN:VEVENT
DTSTART;TZID=Europe/Madrid:20251124T090000
DTEND;TZID=Europe/Madrid:20251126T140000
DTSTAMP:20260422T212345
CREATED:20250811T150658Z
LAST-MODIFIED:20250811T150658Z
UID:11101-1763974800-1764165600@www.cloudcoachers.com
SUMMARY:Service Cloud Implementation
DESCRIPTION:Información del curso:  \n\nCurso híbrido (en remoto o presencial) de Salesforce Service Cloud para Consultores.\nRequisitos: Administrador de Salesforce Certificado.\nEl "voucher" o derecho a presentarse al examen oficial de Certificación es opcional a la formación.\nDuración: 15 horas en 3 sesiones de 5 horas.\nHorario: de 9.00 a 14.00h.\n\n​ \nObjetivos:  \n\nAdquirir las habilidades necesarias configurar la plataforma Force.com para implementar los procesos de Contact Center personalizados.\nConocer las herramientas propias de la gestión de un Contact Center en la plataforma Salesforce: gestión de casos\, integración CTI\, configuración de la consola\, Gestión de SLAs\, bases de datos de conocimiento.\n\n​ \n​Temario:  \n\nIntroductions and overview\nCase management\, automation\, and entitlements\nSalesforce knowledge\nMulti-channel support in the console for service\nSalesforce self-service communities\nExtending Service Cloud\nSecurity Model Review\n\n​ \n¿Por qué hacer este curso?  \nPorque quieres dedicarte a ser consultor de Salesforce y quieres conocer cuáles son las capacidades de la herramienta en el ámbito de servicos postventa. Conociendo todo el proceso\, desde la detección de Casos con diferentes canales\, hasta su gestión y resolución; pasando por toda una funcionalidad enfocada en mejorar la eficiencia del agente\, la reducción de costes de la compañía y\, por supuesto\, la satisfacción del cliente. \nEl curso se centra mucho en las funcionalidades que despliega Service Cloud como la rececpción por diferentes canales\, la asignación eficiente de los casos\, el tratamiento de SLAs o el escalado de casos no resueltos. \nSe analiza cómo Salesforce Knowledge puede ayudar en un Contact Center y se hace una introducción a Experience Cloud de autoservicio. \nTambién puede sacarle partido un usuario de negocio que quiera entender qué puede dar la herramienta en el ámbito de servicios postventa para mejorar su negocio y orientar los requisitos de su proyecto. \n​ \n¿A quién va dirigido? \nPersonas que quieran ser consultores de Salesforce especialzados en la nube se Service. \nPersonas de negocio que tengan que implementar Salesforce o mantenerlo\, en su empresa\, para conocer hasta dónde llega la herramienta en el ámbito de servicios posventa explotando esta licencia que permite mejorar tus procesos aumentando la eficiencia de tus agentes\, reduciendo tus costes y mejorarndo la satisfacción de tus clientes. \nPersonas que quieran obtener la certificación de consultor de Service. \n \nLo que dicen nuestros alumnos: \n"El contenido del curso\, tanto la documentación\, como los ejemplos mostrados por el instructor han sido muy completos y trabajados." \n"La formación y adopción en Salesforce con los cursos e instructores de Cloud Coachers te aporta seguridad y confianza para certificarte y trabajar con Salesforce" \n"Los cursos están muy bien dirigidos\, con profesores con experiencia en campo y que transmiten muy bien los conocimientos. Desde luego que Cloud Coachers es la mejor elección para formarte en Salesforce" \n"Como siempre\, los cursos de Cloud Coachers son la mejor manera para conocer en profundidad el alcance de las materias asociadas con la tecnología de Salesforce y prepararse para la certificación" \n \n﻿​
URL:https://www.cloudcoachers.com/curso/service-cloud-implementation-38/
LOCATION:Virtual
END:VEVENT
BEGIN:VEVENT
DTSTART;TZID=Europe/Madrid:20251124T090000
DTEND;TZID=Europe/Madrid:20251128T150000
DTSTAMP:20260422T212346
CREATED:20250811T151030Z
LAST-MODIFIED:20250811T151030Z
UID:11102-1763974800-1764342000@www.cloudcoachers.com
SUMMARY:SF Developer I
DESCRIPTION:Información del curso:  \n\nCurso híbrido (en remoto o presencial)\nDuración: 30 horas\, 5 jornadas de 6 horas\nHorario: de 9 a 15h\nOrientado a personas con experiencia o interés en programar en Salesforce.\n\n​ \nObjetivos:  \n\nConocer la Plataforma Force.com en sus elementos más importantes desde el punto de vista de un desarrollador de aplicaciones.\nAdquirir las habilidades para el desarrollo de aplicaciones de forma programática sobre la plataforma Force.com utilizando Apex\, Visualforce y Lightning components.\n\n​ \nTemario del curso:  \n\nIntroducing Force.com Platform \nDeclarative building applications \nIntroduction to Apex and Visualforce \nApex language fundamentals \nDebug \nWorking with Data \nRetrieve Language (SOQL & SOSL) \nDML Language \nInvoking Apex \nTriggers \nApex transactions \nCall Apex from Lightning Process Builder \nVisualforce \nControllers \nStatic resources & Field sets \nVisualforce Components \nTesting and Deploying Tools \nCoverage \nConcepts of Salesforce Lightning \nDevelop a lightning component\n\n \n¿Por qué hacer este curso? \nPara poder formarte como desarrollador en los diferentes lenguajes de programacion de Salesforce.  \nPodrás poner en practica los conocimientos adquirido durante las clases \nAdquirirás los conocimentos necesarios para obtener la certificación Salesforce Certified Platform Developer \nTendrás un tutor dedicado a solucionarte las dudas que puedan surgir a lo largo del curso.  \n \n​
URL:https://www.cloudcoachers.com/curso/sf-developer-i-32/
LOCATION:Virtual
END:VEVENT
END:VCALENDAR