BEGIN:VCALENDAR
VERSION:2.0
PRODID:-//Cloud Coachers - ECPv6.10.1.1//NONSGML v1.0//EN
CALSCALE:GREGORIAN
METHOD:PUBLISH
X-ORIGINAL-URL:https://www.cloudcoachers.com
X-WR-CALDESC:Eventos para Cloud Coachers
REFRESH-INTERVAL;VALUE=DURATION:PT1H
X-Robots-Tag:noindex
X-PUBLISHED-TTL:PT1H
BEGIN:VTIMEZONE
TZID:Europe/Madrid
BEGIN:DAYLIGHT
TZOFFSETFROM:+0100
TZOFFSETTO:+0200
TZNAME:CEST
DTSTART:20200329T010000
END:DAYLIGHT
BEGIN:STANDARD
TZOFFSETFROM:+0200
TZOFFSETTO:+0100
TZNAME:CET
DTSTART:20201025T010000
END:STANDARD
END:VTIMEZONE
BEGIN:VEVENT
DTSTART;TZID=Europe/Madrid:20200724T090000
DTEND;TZID=Europe/Madrid:20200724T140000
DTSTAMP:20260422T223844
CREATED:20220307T125649Z
LAST-MODIFIED:20220307T125649Z
UID:9517-1595581200-1595599200@www.cloudcoachers.com
SUMMARY:Marketing Cloud Social
DESCRIPTION:Curso online de Salesforce Administrator para Administradores principiantes. \nObjetivos: Conocer la plataforma Force.com y sus elementos más importantes: modelo de datos\, modelo de seguridad\, motor de workflow\, herramientas de análisis de datos. \nAdquirir las habilidades necesarias para personalizar\, configurar y administrar esta plataforma \nRequisitos: se recomienda tener conocimientos básicos de Salesforce. \nEl "voucher" o derecho a presentarse al examen oficial de Certificación es opcional a la formación. \nHorario: de lunes a viernes\, de 9:00 a 15:00h. \n \nLo que dicen nuestros alumnos: \n"Este curso me ha encantado. La plataforma es muy interesante\, y el curso estaba muy bien organizado. Gracias." \n"Gracias a este curso hemos tomado contacto con detalles de Salesforce que desconocíamos\, lo que sin duda será una gran fuente de ideas a poner en práctica." \n"El curso me ha iniciado en el universo fascinante de Salesforce y me proporcionó una visión de las oportunidades que puedas tener una vez certificado." \n"Aunque manejaba la herramienta en mi empresa\, siempre me había intimidado mirar detrás del telón de la administración\, pero el curso no sólo me ha preparado para el examen\, si no que me ha hecho ver que no es algo tan feo e inmanejable y me ha permitido ver la potencial utilidad que puedo dar a mi empresa con estos conocimientos." \n"La forma ideal para iniciarse en un campo apasionante como es el mundo de Salesforce."
URL:https://www.cloudcoachers.com/curso/marketing-cloud-social-2/
LOCATION:Virtual
END:VEVENT
BEGIN:VEVENT
DTSTART;TZID=Europe/Madrid:20200508T100000
DTEND;TZID=Europe/Madrid:20200508T140000
DTSTAMP:20260422T223844
CREATED:20220307T130308Z
LAST-MODIFIED:20220307T130308Z
UID:9554-1588932000-1588946400@www.cloudcoachers.com
SUMMARY:Salesforce Administration
DESCRIPTION:Curso online de Salesforce Administrator para Administradores principiantes. \nObjetivos: Conocer la plataforma Force.com y sus elementos más importantes: modelo de datos\, modelo de seguridad\, motor de workflow\, herramientas de análisis de datos. \nAdquirir las habilidades necesarias para personalizar\, configurar y administrar esta plataforma \nRequisitos: se recomienda tener conocimientos básicos de Salesforce. \nEl "voucher" o derecho a presentarse al examen oficial de Certificación es opcional a la formación. \nHorario: de lunes a viernes\, de 9:00 a 15:00h. \n \nLo que dicen nuestros alumnos: \n"Este curso me ha encantado. La plataforma es muy interesante\, y el curso estaba muy bien organizado. Gracias." \n"Gracias a este curso hemos tomado contacto con detalles de Salesforce que desconocíamos\, lo que sin duda será una gran fuente de ideas a poner en práctica." \n"El curso me ha iniciado en el universo fascinante de Salesforce y me proporcionó una visión de las oportunidades que puedas tener una vez certificado." \n"Aunque manejaba la herramienta en mi empresa\, siempre me había intimidado mirar detrás del telón de la administración\, pero el curso no sólo me ha preparado para el examen\, si no que me ha hecho ver que no es algo tan feo e inmanejable y me ha permitido ver la potencial utilidad que puedo dar a mi empresa con estos conocimientos." \n"La forma ideal para iniciarse en un campo apasionante como es el mundo de Salesforce."
URL:https://www.cloudcoachers.com/curso/salesforce-administration-32/
LOCATION:Virtual
END:VEVENT
BEGIN:VEVENT
DTSTART;TZID=Europe/Madrid:20200508T100000
DTEND;TZID=Europe/Madrid:20200508T140000
DTSTAMP:20260422T223844
CREATED:20220307T125647Z
LAST-MODIFIED:20220307T125647Z
UID:9515-1588932000-1588946400@www.cloudcoachers.com
SUMMARY:Salesforce Administration
DESCRIPTION:Curso online de Salesforce Administrator para Administradores principiantes. \nObjetivos: Conocer la plataforma Force.com y sus elementos más importantes: modelo de datos\, modelo de seguridad\, motor de workflow\, herramientas de análisis de datos. \nAdquirir las habilidades necesarias para personalizar\, configurar y administrar esta plataforma \nRequisitos: se recomienda tener conocimientos básicos de Salesforce. \nEl "voucher" o derecho a presentarse al examen oficial de Certificación es opcional a la formación. \nHorario: de lunes a viernes\, de 9:00 a 15:00h. \n \nLo que dicen nuestros alumnos: \n"Este curso me ha encantado. La plataforma es muy interesante\, y el curso estaba muy bien organizado. Gracias." \n"Gracias a este curso hemos tomado contacto con detalles de Salesforce que desconocíamos\, lo que sin duda será una gran fuente de ideas a poner en práctica." \n"El curso me ha iniciado en el universo fascinante de Salesforce y me proporcionó una visión de las oportunidades que puedas tener una vez certificado." \n"Aunque manejaba la herramienta en mi empresa\, siempre me había intimidado mirar detrás del telón de la administración\, pero el curso no sólo me ha preparado para el examen\, si no que me ha hecho ver que no es algo tan feo e inmanejable y me ha permitido ver la potencial utilidad que puedo dar a mi empresa con estos conocimientos." \n"La forma ideal para iniciarse en un campo apasionante como es el mundo de Salesforce."
URL:https://www.cloudcoachers.com/curso/salesforce-administration-22/
LOCATION:Virtual
END:VEVENT
END:VCALENDAR