BEGIN:VCALENDAR
VERSION:2.0
PRODID:-//Cloud Coachers - ECPv6.10.1.1//NONSGML v1.0//EN
CALSCALE:GREGORIAN
METHOD:PUBLISH
X-WR-CALNAME:Cloud Coachers
X-ORIGINAL-URL:https://www.cloudcoachers.com
X-WR-CALDESC:Eventos para Cloud Coachers
REFRESH-INTERVAL;VALUE=DURATION:PT1H
X-Robots-Tag:noindex
X-PUBLISHED-TTL:PT1H
BEGIN:VTIMEZONE
TZID:Europe/Madrid
BEGIN:DAYLIGHT
TZOFFSETFROM:+0100
TZOFFSETTO:+0200
TZNAME:CEST
DTSTART:20250330T010000
END:DAYLIGHT
BEGIN:STANDARD
TZOFFSETFROM:+0200
TZOFFSETTO:+0100
TZNAME:CET
DTSTART:20251026T010000
END:STANDARD
END:VTIMEZONE
BEGIN:VEVENT
DTSTART;TZID=Europe/Madrid:20250929T090000
DTEND;TZID=Europe/Madrid:20251001T140000
DTSTAMP:20260422T212239
CREATED:20251001T090612Z
LAST-MODIFIED:20251001T110612Z
UID:11116-1759136400-1759327200@www.cloudcoachers.com
SUMMARY:Salesforce Customer Data Platform (CDP)
DESCRIPTION:Información del curso:  \n\nCurso híbrido (en remoto o presencial)\nDuración: 15 horas\, en 3 sesiones de 5 horas\nHorario: de 9 a 14h.\n\n \nObjetivos:  \nEntender qué es Salesforce Data Cloud (aka CDP)\, cuál es el valor que puede aportar a la compañía e identificar casos de uso típicos. \nAdquirir las habilidades necesarias para administrar y configurar la plataforma correctamente para sacarle el máximo partido.  \n \nTemario:  \n\nOverview\nSetup and Administration\nData Ingestion\nData Modelling\nIdentity Resolution\nSegmentation & Insights\nActivation\nAPI and Integrations\n\n \n¿Por qué hacer este curso?  \nEste curso da una visión global y completa sobre cómo configurar Data Cloud y cómo sacarle el máximo rendimiento. Los ejercicios prácticos refuerzan lo visto en la teoría y en clase se va guiando al alumno y resolviendo cualquier duda.  \n \n¿A quién va dirigido?  \nA consultores con experiencia en la plataforma de Salesforce\, Marketing Cloud y modelos de datos\, que quieran poder implantar o administrar Data Cloud.  \nA clientes finales que estén en proceso de implantar Data Cloud y quieran conocer las capacidades de la herramienta en detalle\, mantener el conocimiento de manera interna\, y ser capaces de exigir con conocimiento de causa.  \nA consultores o clientes que busquen conseguir la nueva Certificación de Data Cloud.
URL:https://www.cloudcoachers.com/curso/salesforce-customer-data-platform-cdp-13/
LOCATION:Virtual
END:VEVENT
BEGIN:VEVENT
DTSTART;TZID=Europe/Madrid:20251020T090000
DTEND;TZID=Europe/Madrid:20251024T150000
DTSTAMP:20260422T212240
CREATED:20251024T112531Z
LAST-MODIFIED:20251024T132531Z
UID:11103-1760950800-1761318000@www.cloudcoachers.com
SUMMARY:Salesforce Administration
DESCRIPTION:Información del curso:  \n\nCurso híbrido (en remoto o presencial) de Salesforce Certified Platform Administrator para Administradores principiantes.\nRequisitos: se recomienda tener conocimientos básicos de Salesforce.\nEl "voucher" o derecho a presentarse al examen oficial de Certificación es opcional a la formación.\nDuración: 30 horas\, en 5 sesiones de 6 horas. \nHorario: de lunes a viernes\, de 9:00 a 15:00h. \n\n​ \nObjetivos del curso:  \n\nConocer la plataforma Force.com y sus elementos más importantes: modelo de datos\, modelo de seguridad\, motor de workflow\, herramientas de análisis de datos.\nAdquirir las habilidades necesarias para personalizar\, configurar y administrar esta plataforma\n\n​ \nTemario:  \n\nIntroducing Salesforce\nPreparing the org\nSalesforce Data Model\nSecurity Model\nAutomating Tasks\nManaging Data\nAnalyzing Data\nCertification Exam Tips \n\n​ \n¿Por qué hacer este curso?  \nSalesforce es una plataforma en constante crecimiento\, y se espera que sean necesarios alrededor de 20.000 profesionales formados en Salesforce en España en los próximos años.  \nEste curso te permitirá introducirte en el mundo Salesforce CRM\, conocer la herramienta\, entender cómo plantear un proyecto\, estructurar la información que tienes de la plataforma en base a tu experiencia previa. \n​ \n¿A quién va dirigido? \n\nPersonas que quieran conocer el mundo y la cultura Salesforce CRM\nPersonas que están trabajando con Salesforce pero no han recibido una formación dedicada\nPersonas que quieren dedicarse a la consultoría de Salesforce y no tiene experiencia aún.\nPersonas que tienen o van a tener Salesforce en su empresa y necesitan entender las capacidades de la plataforma.\nPersonas que quieren obtener la certificación.\n\n \nLo que dicen nuestros alumnos: \n"Este curso me ha encantado. La plataforma es muy interesante\, y el curso estaba muy bien organizado. Gracias." \n"Gracias a este curso hemos tomado contacto con detalles de Salesforce que desconocíamos\, lo que sin duda será una gran fuente de ideas a poner en práctica." \n"El curso me ha iniciado en el universo fascinante de Salesforce y me proporcionó una visión de las oportunidades que puedas tener una vez certificado." \n"Aunque manejaba la herramienta en mi empresa\, siempre me había intimidado mirar detrás del telón de la administración\, pero el curso no sólo me ha preparado para el examen\, si no que me ha hecho ver que no es algo tan feo e inmanejable y me ha permitido ver la potencial utilidad que puedo dar a mi empresa con estos conocimientos." \n"La forma ideal para iniciarse en un campo apasionante como es el mundo de Salesforce."
URL:https://www.cloudcoachers.com/curso/salesforce-administration-77/
LOCATION:Virtual
END:VEVENT
END:VCALENDAR