BEGIN:VCALENDAR
VERSION:2.0
PRODID:-//Cloud Coachers - ECPv6.10.1.1//NONSGML v1.0//EN
CALSCALE:GREGORIAN
METHOD:PUBLISH
X-WR-CALNAME:Cloud Coachers
X-ORIGINAL-URL:https://www.cloudcoachers.com/en/
X-WR-CALDESC:Events for Cloud Coachers
REFRESH-INTERVAL;VALUE=DURATION:PT1H
X-Robots-Tag:noindex
X-PUBLISHED-TTL:PT1H
BEGIN:VTIMEZONE
TZID:Europe/Madrid
BEGIN:DAYLIGHT
TZOFFSETFROM:+0100
TZOFFSETTO:+0200
TZNAME:CEST
DTSTART:20240331T010000
END:DAYLIGHT
BEGIN:STANDARD
TZOFFSETFROM:+0200
TZOFFSETTO:+0100
TZNAME:CET
DTSTART:20241027T010000
END:STANDARD
END:VTIMEZONE
BEGIN:VEVENT
DTSTART;TZID=Europe/Madrid:20240619T170000
DTEND;TZID=Europe/Madrid:20240702T190000
DTSTAMP:20260425T234323
CREATED:20240805T120055Z
LAST-MODIFIED:20240805T140055Z
UID:10909-1718816400-1719946800@www.cloudcoachers.com
SUMMARY:Bootcamp Associate
DESCRIPTION:Objetivos del curso: Conocer Salesforce\, su propuesta de valor\, su portfolio de servicios su propuesta de valor al mercado. \nConocer la plataforma Salesforce y sus procedimientos básicos de administración y operación. \n \nModule 1: Salesforce Ecosystem and Enablement \n\nDescribe Salesforce Resources\nIdentify Customer 360 Product Offerings\nDescribe How to Use Salesforce\nIdentify Job Roles and Careers \n\n \nModule 2: Salesforce Platform Basics \n\nNavigate the Salesforce Interface\nNavigate Salesforce Setup\nGet Started with Salesforce Architecture \n\n \nModule 3: Salesforce Data Model & Visibility \n\nExplain Object Relationships\nEnsure Data Visibility and Data Quality \n\n \nModule 4: Salesforce Analytics \n\nVisualize Data with Reports and Dashboards
URL:https://www.cloudcoachers.com/en/curso/bootcamp-associate-4/
LOCATION:Virtual
END:VEVENT
END:VCALENDAR