BEGIN:VCALENDAR
VERSION:2.0
PRODID:-//Cloud Coachers - ECPv6.10.1.1//NONSGML v1.0//EN
CALSCALE:GREGORIAN
METHOD:PUBLISH
X-ORIGINAL-URL:https://www.cloudcoachers.com/en/
X-WR-CALDESC:Events for Cloud Coachers
REFRESH-INTERVAL;VALUE=DURATION:PT1H
X-Robots-Tag:noindex
X-PUBLISHED-TTL:PT1H
BEGIN:VTIMEZONE
TZID:Europe/Madrid
BEGIN:DAYLIGHT
TZOFFSETFROM:+0100
TZOFFSETTO:+0200
TZNAME:CEST
DTSTART:20240331T010000
END:DAYLIGHT
BEGIN:STANDARD
TZOFFSETFROM:+0200
TZOFFSETTO:+0100
TZNAME:CET
DTSTART:20241027T010000
END:STANDARD
END:VTIMEZONE
BEGIN:VEVENT
DTSTART;TZID=Europe/Madrid:20240819T160000
DTEND;TZID=Europe/Madrid:20240829T200000
DTSTAMP:20260425T175716
CREATED:20250917T100959Z
LAST-MODIFIED:20250917T120959Z
UID:10896-1724083200-1724961600@www.cloudcoachers.com
SUMMARY:SF Developer I
DESCRIPTION:Información del curso:  \n\nCurso híbrido (en remoto o presencial)\nDuración: 32 horas	8 jornadas de 4 horas\nHorario: de lunes a jueves\, de 16.00 a 20.00h.\nRequisitos: A personas con experiencia o interés en programar en Salesforce.\n\n​ \nObjetivos:  \n\nConocer la Plataforma Force.com en sus elementos más importantes desde el punto de vista de un desarrollador de aplicaciones.\nAdquirir las habilidades para el desarrollo de aplicaciones de forma programática sobre la plataforma Force.com utilizando Apex\, Visualforce y Lightning components.\n\n​ \nTemario del curso:  \n\nIntroducing Force.com Platform \nDeclarative building applications \nIntroduction to Apex and Visualforce \nApex language fundamentals \nDebug \nWorking with Data \nRetrieve Language (SOQL & SOSL) \nDML Language \nInvoking Apex \nTriggers \nApex transactions \nCall Apex from Lightning Process Builder \nVisualforce \nControllers \nStatic resources & Field sets \nVisualforce Components \nTesting and Deploying Tools \nCoverage \nConcepts of Salesforce Lightning \nDevelop a lightning component\n\n \n¿Por qué hacer este curso? \nPara poder formarte como desarrollador en los diferentes lenguajes de programación de Salesforce.  \nPodrás poner en practica los conocimientos adquirido durante las clases \nAdquirirás los conocimientos necesarios para obtener la certificación de Salesforce Certified Platform Developer. \nTendrás un tutor dedicado a solucionarte las dudas que puedan surgir a lo largo del curso.
URL:https://www.cloudcoachers.com/en/curso/sf-developer-i-21/
LOCATION:Virtual
END:VEVENT
END:VCALENDAR