BEGIN:VCALENDAR
VERSION:2.0
PRODID:-//Cloud Coachers - ECPv6.10.1.1//NONSGML v1.0//EN
CALSCALE:GREGORIAN
METHOD:PUBLISH
X-WR-CALNAME:Cloud Coachers
X-ORIGINAL-URL:https://www.cloudcoachers.com/en/
X-WR-CALDESC:Events for Cloud Coachers
REFRESH-INTERVAL;VALUE=DURATION:PT1H
X-Robots-Tag:noindex
X-PUBLISHED-TTL:PT1H
BEGIN:VTIMEZONE
TZID:Europe/Madrid
BEGIN:DAYLIGHT
TZOFFSETFROM:+0100
TZOFFSETTO:+0200
TZNAME:CEST
DTSTART:20240331T010000
END:DAYLIGHT
BEGIN:STANDARD
TZOFFSETFROM:+0200
TZOFFSETTO:+0100
TZNAME:CET
DTSTART:20241027T010000
END:STANDARD
END:VTIMEZONE
BEGIN:VEVENT
DTSTART;TZID=Europe/Madrid:20241118T090000
DTEND;TZID=Europe/Madrid:20241119T140000
DTSTAMP:20260425T145959
CREATED:20250820T094412Z
LAST-MODIFIED:20250820T114412Z
UID:10810-1731920400-1732024800@www.cloudcoachers.com
SUMMARY:Sales Cloud Implementation
DESCRIPTION:Información del curso:  \n\nCurso híbrido (en remoto o presencial)\nDuración: 10 horas en 2 sesiones de 5 horas\nHorario: de 9 a 14h\nRequisitos: Certificación de Salesforce Administrator\nEl "voucher" o derecho a presentarse al examen oficial de Certificación es opcional a la formación.​\n\n​ \nObjetivos:  \n\nAdquirir las habilidades necesarias configurar la plataforma Force.com para implementar un proceso comercial personalizado.\nConocer las herramientas propias de la gestión de un proceso comercial en la plataforma Salesforce.com: actividades y campañas de marketing\, gestión de Leads\, de territorios\, forecasting\, catálogos de productos\, ofertas y pedidos.\n\n​ \n​Temario:  \n\nOverview of the Salesforce Data Model\nLead Management\nCampaign Management\nAccount and Contact Management\nOpportunity Management\nTerritory Management\nForecasts\nSales Rep Productivity\nIntegration and Data Management\nSales Cloud Analytics\n\n​ \n¿Por qué hacer este curso?  \nPorque quieres dedicarte a ser consultor de Salesforce y quieres conocer cuáles son las capacidades de la herramienta en el ámbito de ventas. Conociendo todo el proceso\, desde la captación de Leads con Salesforce Core\, hasta su conversión en clientes\, contactos y oportunidades\, acabando en la gestión de productos\, precios y objetos derivados de la oportundiad como presupuestos o pedidos. \nAdemás se da una visión nueva de seguridad con el uso de Territorios\, y se trabaja la predictibilidad con la funcionalidad de Forecast. \nTambién puede sacarle partido un usuario de negocio que quiera entender qué puede dar la herramienta en el ámbito de ventas. \n​ \n¿A quién va dirigido?  \nPersonas que quieran ser consultores de Salesforce especialzados en la nube se Sales. \nPersonas de negocio que tengan que implementar Salesforce o mantenerlo\, en su empresa\, para conocer hasta dónde llega la herramienta en el ámbito de ventas. \nPersonas que quieran obtener la certificación de consultor de Sales. \n \nLo que dicen nuestros alumnos:​ \n"La formación y adopción en Salesforce con los cursos e instructores de Cloud Coachers te aporta seguridad y confianza para certificarte y trabajar con Salesforce" \n"Los cursos están muy bien dirigidos\, con profesores con experiencia en campo y que transmiten muy bien los conocimientos. Desde luego que Cloud Coachers es la mejor elección para formarte en Salesforce" \n \n﻿​
URL:https://www.cloudcoachers.com/en/curso/sales-cloud-implementation-33/
LOCATION:Cloud Coachers\, Matilde Landa 28\, Madrid\, Madrid\, 28029\, España
END:VEVENT
BEGIN:VEVENT
DTSTART;TZID=Europe/Madrid:20241118T090000
DTEND;TZID=Europe/Madrid:20241122T150000
DTSTAMP:20260425T150000
CREATED:20250917T101447Z
LAST-MODIFIED:20250917T121447Z
UID:10583-1731920400-1732287600@www.cloudcoachers.com
SUMMARY:Salesforce Administration
DESCRIPTION:Información del curso:  \n\nCurso híbrido (en remoto o presencial) de Salesforce Certified Platform Administrator para Administradores principiantes.\nRequisitos: se recomienda tener conocimientos básicos de Salesforce.\nEl "voucher" o derecho a presentarse al examen oficial de Certificación es opcional a la formación.\nDuración: 30 horas\, en 5 sesiones de 6 horas. \nHorario: de lunes a viernes\, de 9:00 a 15:00h. \n\n​ \nObjetivos del curso:  \n\nConocer la plataforma Force.com y sus elementos más importantes: modelo de datos\, modelo de seguridad\, motor de workflow\, herramientas de análisis de datos.\nAdquirir las habilidades necesarias para personalizar\, configurar y administrar esta plataforma\n\n​ \nTemario:  \n\nIntroducing Salesforce\nPreparing the org\nSalesforce Data Model\nSecurity Model\nAutomating Tasks\nManaging Data\nAnalyzing Data\nCertification Exam Tips \n\n​ \n¿Por qué hacer este curso?  \nSalesforce es una plataforma en constante crecimiento\, y se espera que sean necesarios alrededor de 20.000 profesionales formados en Salesforce en España en los próximos años.  \nEste curso te permitirá introducirte en el mundo Salesforce CRM\, conocer la herramienta\, entender cómo plantear un proyecto\, estructurar la información que tienes de la plataforma en base a tu experiencia previa. \n​ \n¿A quién va dirigido? \n\nPersonas que quieran conocer el mundo y la cultura Salesforce CRM\nPersonas que están trabajando con Salesforce pero no han recibido una formación dedicada\nPersonas que quieren dedicarse a la consultoría de Salesforce y no tiene experiencia aún.\nPersonas que tienen o van a tener Salesforce en su empresa y necesitan entender las capacidades de la plataforma.\nPersonas que quieren obtener la certificación.\n\n \nLo que dicen nuestros alumnos: \n"Este curso me ha encantado. La plataforma es muy interesante\, y el curso estaba muy bien organizado. Gracias." \n"Gracias a este curso hemos tomado contacto con detalles de Salesforce que desconocíamos\, lo que sin duda será una gran fuente de ideas a poner en práctica." \n"El curso me ha iniciado en el universo fascinante de Salesforce y me proporcionó una visión de las oportunidades que puedas tener una vez certificado." \n"Aunque manejaba la herramienta en mi empresa\, siempre me había intimidado mirar detrás del telón de la administración\, pero el curso no sólo me ha preparado para el examen\, si no que me ha hecho ver que no es algo tan feo e inmanejable y me ha permitido ver la potencial utilidad que puedo dar a mi empresa con estos conocimientos." \n"La forma ideal para iniciarse en un campo apasionante como es el mundo de Salesforce."
URL:https://www.cloudcoachers.com/en/curso/salesforce-administration-60/
LOCATION:Virtual
END:VEVENT
END:VCALENDAR