BEGIN:VCALENDAR
VERSION:2.0
PRODID:-//Cloud Coachers - ECPv6.10.1.1//NONSGML v1.0//EN
CALSCALE:GREGORIAN
METHOD:PUBLISH
X-ORIGINAL-URL:https://www.cloudcoachers.com/en/
X-WR-CALDESC:Events for Cloud Coachers
REFRESH-INTERVAL;VALUE=DURATION:PT1H
X-Robots-Tag:noindex
X-PUBLISHED-TTL:PT1H
BEGIN:VTIMEZONE
TZID:Europe/Madrid
BEGIN:DAYLIGHT
TZOFFSETFROM:+0100
TZOFFSETTO:+0200
TZNAME:CEST
DTSTART:20250330T010000
END:DAYLIGHT
BEGIN:STANDARD
TZOFFSETFROM:+0200
TZOFFSETTO:+0100
TZNAME:CET
DTSTART:20251026T010000
END:STANDARD
END:VTIMEZONE
BEGIN:VEVENT
DTSTART;TZID=Europe/Madrid:20250310T090000
DTEND;TZID=Europe/Madrid:20250314T150000
DTSTAMP:20260423T205912
CREATED:20250917T082922Z
LAST-MODIFIED:20250917T102922Z
UID:10996-1741597200-1741964400@www.cloudcoachers.com
SUMMARY:Salesforce Platform App Builder
DESCRIPTION:Información del curso:  \nFormato híbrido (remoto + presencial) \nDuración: 30 horas en 5 jornadas de 6 horas  \nHorario: de 9 a 15h \nRecomendable: Haber hecho el curso de Salesforce Administrator o Developer I \n \nObjetivos:  \nConocer la Plataforma Force.com en sus elementos más importantes desde el punto de vista de un desarrollador de aplicaciones. \n​Adquirir las habilidades para el desarrollo de aplicaciones sobre la plataforma Force.com utilizando las herramientas declarativas incluidas en la plataforma. \n​ \nTemario:  \n\nIntroducing Force.com Cloud\nForce.com Data Model\nForce.com User Interface\nBusiness Logic\nData Management\nSecurity\nBusiness Processes\nData Analysis\nOther concepts​\n\n​ \n​
URL:https://www.cloudcoachers.com/en/curso/salesforce-platform-app-builder-2/
LOCATION:Virtual
END:VEVENT
END:VCALENDAR