BEGIN:VCALENDAR
VERSION:2.0
PRODID:-//Cloud Coachers - ECPv6.10.1.1//NONSGML v1.0//EN
CALSCALE:GREGORIAN
METHOD:PUBLISH
X-WR-CALNAME:Cloud Coachers
X-ORIGINAL-URL:https://www.cloudcoachers.com/en/
X-WR-CALDESC:Events for Cloud Coachers
REFRESH-INTERVAL;VALUE=DURATION:PT1H
X-Robots-Tag:noindex
X-PUBLISHED-TTL:PT1H
BEGIN:VTIMEZONE
TZID:Europe/Madrid
BEGIN:DAYLIGHT
TZOFFSETFROM:+0100
TZOFFSETTO:+0200
TZNAME:CEST
DTSTART:20250330T010000
END:DAYLIGHT
BEGIN:STANDARD
TZOFFSETFROM:+0200
TZOFFSETTO:+0100
TZNAME:CET
DTSTART:20251026T010000
END:STANDARD
END:VTIMEZONE
BEGIN:VEVENT
DTSTART;TZID=Europe/Madrid:20250324T090000
DTEND;TZID=Europe/Madrid:20250329T140000
DTSTAMP:20260423T205623
CREATED:20250917T082907Z
LAST-MODIFIED:20250917T102907Z
UID:11025-1742806800-1743256800@www.cloudcoachers.com
SUMMARY:Marketing Cloud Developer
DESCRIPTION:Información del curso:  \n\nCurso híbrido: en remoto o presencial en nuestras oficinas.\nDuración: 15 horas\, en 3 sesiones de 5 horas\nHorario: de 9 a 14h\nEl voucher para presentarte al examen de certificación es opcional.\nPre-requisitos: para la certificación es necesario tener la certificación de Marketing Cloud Email Specialist. Para aprovechar el curso se requiere conocimiento profundo del funcionamiento de Marketing Cloud.\n\n​ \nObjetivos:  \nAprender los conceptos más técnicos de Marketing Cloud\, de cara a su implementación y explotación avanzada.  \nAMPscript\, REST y SOAP APIs\, SQL\, SSJS\, gestión y manipulación de datos. \n​ \nTemario: \nConfiguration \nData structure \nContact Builder   \nTracking info \nExtract\, transform\, load data \nJourney Builder entry sources \nEmail Deliverability \nSecurity \nExclusions \nSend Logging \nWeb Analytics Connector \nProgramming languages \nMobile Connect – Web Pages \nSOAP and REST API \n​ \n¿Por qué hacer este curso?  \nPorque ya conoces la herramienta y quieres llevar al máximo exponente las personalizaciones e integraciones con otras plataformas. \nTe ayudará a entender cómo funciona por detrás Marketing Cloud. \n​ \n¿A quién va dirigido?  \nA perfiles técnicos que tengan ya conocimiento extenso de Marketing Cloud y que quieran integrar datos internos y personalizar las comunicaciones y envios dentro de Marketing Cloud.  \nRecomendable tener nociones basicas de programación. \n \n​
URL:https://www.cloudcoachers.com/en/curso/marketing-cloud-developer-12/
LOCATION:Virtual
END:VEVENT
BEGIN:VEVENT
DTSTART;TZID=Europe/Madrid:20250324T093000
DTEND;TZID=Europe/Madrid:20250328T143000
DTSTAMP:20260423T205624
CREATED:20250917T082916Z
LAST-MODIFIED:20250917T102916Z
UID:10999-1742808600-1743172200@www.cloudcoachers.com
SUMMARY:Salesforce B2C Commerce
DESCRIPTION:Introduction to Salesforce B2C Commerce \n \n\nDefine Salesforce B2C Commerce\nPOD & Realms\nSFCC Tools: BM\, Log Center\, Account Manager\, Control Center…\nMerchant Tools & Administration\n\n \nStorefront Organization \n \n\nExplain How Catalogs Work\nCreate Categories\nManage Products\nManage Pricing and Inventory\nConfigure Search Refinements\n\n \nSearch Marketing \n \n\nManage Search Engine Optimization\nImplement Search and Sizing Strategies\n\n \nOnline Marketing \n \n\nUse Qualifiers\nCreate Promotions\nManage Campaigns\nRefine Campaigns\n\n \nConsumer Experience \n \n\nIdentify Content Management Basics\nCreate and Manage Content Slots\nBuild a Page Using Page Designer\nEinstein Recommenders\n\n \nOrdering \n \n\nOrders\nShipping Methods\nPayment Methods\n\n \nQuick view \n \n\nView Reports & Dashboards\nA/B Test\nData Model\nJobs\nScheduled Backups\nExtend Business Manager
URL:https://www.cloudcoachers.com/en/curso/salesforce-b2c-commerce/
LOCATION:Virtual
END:VEVENT
BEGIN:VEVENT
DTSTART;TZID=Europe/Madrid:20250325T090000
DTEND;TZID=Europe/Madrid:20250328T140000
DTSTAMP:20260423T205624
CREATED:20250917T082900Z
LAST-MODIFIED:20250917T102900Z
UID:10981-1742893200-1743170400@www.cloudcoachers.com
SUMMARY:Salesforce Field Service Cloud
DESCRIPTION:Información del curso:  \n\nCurso híbrido (en remoto o presencial)\n​Duración: 15 horas en 3 jornadas de 5 horas \nRecomendable: conocer la plataforma\n\n​ \nObjetivos:  \n\nAdquirir las habilidades necesarias configurar la plataforma de Service Cloud para implementar los procesos de asociados a los agentes de servicios que se encuentran en el campo.\nConocer las herramientas propias de la gestión de un equipo servicio: creación\, asignación y procesos de optimización de órdenes de trabajo. Cómo optimizar el tiempo de los técnicos que se encuentran en el campo. Cómo integrar las herramientas de Service Cloud en la gestión del trabajo.\n\n​ \nTemario:  \n\nSet Up Field Service Lightning \nPlan for Field Service Lightning\nSet Up Field Service Lightning \nSet Up Field Service Lightning \nSet Up contractors\nDispatcher Console\nMobile with Field Technicians\n\n​ \n¿Por qué hacer este curso?  \nPorque quieres profundizar en las capacidades de Salesforce en el ámbito de servicios postventa. \nPorque eres consultor de Salesforce\, conoces Service Cloud y quieres dar el siguiente paso en este ámbito. \nPorque eres un usuario de negocio que tiene que implementar o mantener un proyecto que requiere agentes con trabajo de campo y quieres conocer las capacidades de Salesforce en este sector.​ \n​ \n¿A quién va dirigido?  \nPersonas que quieran mejorar sus habilidades de consultor de Service con la parte de trabajo de campo. \nPersonas de negocio que necesiten conocer las capacidades de Salesforce en este ámbito. \nPersonas que quieran obtener la certificación. \n \n​
URL:https://www.cloudcoachers.com/en/curso/salesforce-field-service-cloud-7/
LOCATION:Virtual
END:VEVENT
END:VCALENDAR