BEGIN:VCALENDAR
VERSION:2.0
PRODID:-//Cloud Coachers - ECPv6.10.1.1//NONSGML v1.0//EN
CALSCALE:GREGORIAN
METHOD:PUBLISH
X-ORIGINAL-URL:https://www.cloudcoachers.com/en/
X-WR-CALDESC:Events for Cloud Coachers
REFRESH-INTERVAL;VALUE=DURATION:PT1H
X-Robots-Tag:noindex
X-PUBLISHED-TTL:PT1H
BEGIN:VTIMEZONE
TZID:Europe/Madrid
BEGIN:DAYLIGHT
TZOFFSETFROM:+0100
TZOFFSETTO:+0200
TZNAME:CEST
DTSTART:20250330T010000
END:DAYLIGHT
BEGIN:STANDARD
TZOFFSETFROM:+0200
TZOFFSETTO:+0100
TZNAME:CET
DTSTART:20251026T010000
END:STANDARD
END:VTIMEZONE
BEGIN:VEVENT
DTSTART;TZID=Europe/Madrid:20250602T090000
DTEND;TZID=Europe/Madrid:20250606T130000
DTSTAMP:20260423T065225
CREATED:20250714T133411Z
LAST-MODIFIED:20250714T153411Z
UID:10975-1748854800-1749214800@www.cloudcoachers.com
SUMMARY:Salesforce Business Analyst
DESCRIPTION:Información del curso: \n \n\nCurso híbrido (en remoto o presencial) de Salesforce Business Analyst.\nRequisitos: no se requieren conocimientos previos. \nEl "voucher" o derecho a presentarse al examen oficial de Certificación es opcional a la formación.\nDuración: 20 horas.\nHorario: de lunes a viernes. Cursos en las mañanas y en las tardes. \n\n​ \nObjetivos del curso: \n \n\nAdquirir las habilidades necesarias del rol para gestionar un proyecto de principio a fin\, logrando el éxito empresarial. \nLograr interpretar las necesidades empresariales para traducirlo en la solución más adecuada para el negocio y lograr el éxito del mismo. \n\n \nTemario: \n \n\nRole Explanation\nCustomer Discovery\nCollaboration with Stakeholders\nBusiness Process Mapping\nRequirements\nUser Stories\nDevelopment Support and User Acceptance\n\n¿Por qué hacer este curso? \n \nEl rol de Business Analyst es clave en los proyectos\, ya que ayudan a que las empresas a mejorar los procesos y la eficacia en el uso de la plataforma Salesforce.  \nSerás capaz de entender el negocio\, documentar y analizar los requisitos de los retos comerciales.  \nGenerarás soluciones basadas en datos y propondrás soluciones más óptimas.  \nEste rol es fundamental dado que es la persona que logra ser el nexo entre el equipo IT y los stakeholders potenciando así la comunicación y el éxito del proyecto.  \n \n¿A quién va dirigido? \n \n\nPersonas que quieran conocer el mundo y la cultura Salesforce CRM.\nPersonas que están trabajando con Salesforce pero no han recibido una formación dedicada.\nPersonas que quieren dedicarse a la consultoría de Salesforce en el mundo de los negocios y tiene interés en desarrollarse en el mundo de Business Analyst.\nPersonas que tienen o van a tener Salesforce en su empresa y necesitan entender las capacidades de la plataforma.\nPersonas que quieren obtener la certificación.
URL:https://www.cloudcoachers.com/en/curso/salesforce-business-analyst/
LOCATION:Virtual
END:VEVENT
END:VCALENDAR