BEGIN:VCALENDAR
VERSION:2.0
PRODID:-//Cloud Coachers - ECPv6.10.1.1//NONSGML v1.0//EN
CALSCALE:GREGORIAN
METHOD:PUBLISH
X-WR-CALNAME:Cloud Coachers
X-ORIGINAL-URL:https://www.cloudcoachers.com/en/
X-WR-CALDESC:Events for Cloud Coachers
REFRESH-INTERVAL;VALUE=DURATION:PT1H
X-Robots-Tag:noindex
X-PUBLISHED-TTL:PT1H
BEGIN:VTIMEZONE
TZID:Europe/Madrid
BEGIN:DAYLIGHT
TZOFFSETFROM:+0100
TZOFFSETTO:+0200
TZNAME:CEST
DTSTART:20260329T010000
END:DAYLIGHT
BEGIN:STANDARD
TZOFFSETFROM:+0200
TZOFFSETTO:+0100
TZNAME:CET
DTSTART:20261025T010000
END:STANDARD
END:VTIMEZONE
BEGIN:VEVENT
DTSTART;TZID=Europe/Madrid:20260622T090000
DTEND;TZID=Europe/Madrid:20260624T140000
DTSTAMP:20260422T154552
CREATED:20260316T132910Z
LAST-MODIFIED:20260316T132910Z
UID:11273-1782118800-1782309600@www.cloudcoachers.com
SUMMARY:Salesforce Customer Data Platform (CDP)
DESCRIPTION:
URL:https://www.cloudcoachers.com/en/curso/salesforce-customer-data-platform-cdp-19/
LOCATION:Virtual
END:VEVENT
BEGIN:VEVENT
DTSTART;TZID=Europe/Madrid:20260622T090000
DTEND;TZID=Europe/Madrid:20260626T140000
DTSTAMP:20260422T154552
CREATED:20260316T132654Z
LAST-MODIFIED:20260316T132654Z
UID:11272-1782118800-1782482400@www.cloudcoachers.com
SUMMARY:Agentforce Essentials
DESCRIPTION:
URL:https://www.cloudcoachers.com/en/curso/agentforce-essentials-8/
LOCATION:Virtual
END:VEVENT
END:VCALENDAR