BEGIN:VCALENDAR
VERSION:2.0
PRODID:-//Cloud Coachers - ECPv6.10.1.1//NONSGML v1.0//EN
CALSCALE:GREGORIAN
METHOD:PUBLISH
X-WR-CALNAME:Cloud Coachers
X-ORIGINAL-URL:https://www.cloudcoachers.com/en/
X-WR-CALDESC:Events for Cloud Coachers
REFRESH-INTERVAL;VALUE=DURATION:PT1H
X-Robots-Tag:noindex
X-PUBLISHED-TTL:PT1H
BEGIN:VTIMEZONE
TZID:Europe/Madrid
BEGIN:DAYLIGHT
TZOFFSETFROM:+0100
TZOFFSETTO:+0200
TZNAME:CEST
DTSTART:20240331T010000
END:DAYLIGHT
BEGIN:STANDARD
TZOFFSETFROM:+0200
TZOFFSETTO:+0100
TZNAME:CET
DTSTART:20241027T010000
END:STANDARD
END:VTIMEZONE
BEGIN:VEVENT
DTSTART;TZID=Europe/Madrid:20240722T160000
DTEND;TZID=Europe/Madrid:20240805T200000
DTSTAMP:20260425T175512
CREATED:20241105T143741Z
LAST-MODIFIED:20241105T153741Z
UID:10888-1721664000-1722888000@www.cloudcoachers.com
SUMMARY:Salesforce Administration
DESCRIPTION:Información del curso:  \n\nCurso híbrido (en remoto o presencial) de Salesforce Administrator para Administradores principiantes.\nRequisitos: se recomienda tener conocimientos básicos de Salesforce.\nEl "voucher" o derecho a presentarse al examen oficial de Certificación es opcional a la formación.\nDuración: 32 horas\, en 8 sesiones de 4 horas. \nHorario: 16:00 a 20:00h de lunes a jueves(*).\nInicio: 22 de Julio. Finaliza: 5 de Agosto. \nEl 25/07 por ser festivo NO se impartirá el curso. \n\n​(*) No se imparte el curso viernes\, sábado y domingos.  \n \nObjetivos del curso:  \n\nConocer la plataforma Force.com y sus elementos más importantes: modelo de datos\, modelo de seguridad\, Flows\, herramientas de análisis de datos.\nAdquirir las habilidades necesarias para personalizar\, configurar y administrar esta plataforma\n\n​ \nTemario:  \n\nIntroducing Salesforce\nPreparing the org\nSalesforce Data Model\nSecurity Model\nAutomating Tasks\nManaging Data\nAnalyzing Data\nCertification Exam Tips \n\n​ \n¿Por qué hacer este curso?  \nSalesforce es una plataforma en constante crecimiento\, y se espera que sean necesarios alrededor de 20.000 profesionales formados en Salesforce en España en los próximos años.  \nEste curso te permitirá introducirte en el mundo Salesforce CRM\, conocer la herramienta\, entender cómo plantear un proyecto\, estructurar la información que tienes de la plataforma en base a tu experiencia previa. \n​ \n¿A quién va dirigido? \n\nPersonas que quieran conocer el mundo y la cultura Salesforce CRM\nPersonas que están trabajando con Salesforce pero no han recibido una formación dedicada\nPersonas que quieren dedicarse a la consultoría de Salesforce y no tiene experiencia aún.\nPersonas que tienen o van a tener Salesforce en su empresa y necesitan entender las capacidades de la plataforma.\nPersonas que quieren obtener la certificación.\n\n \nLo que dicen nuestros alumnos: \n"Este curso me ha encantado. La plataforma es muy interesante\, y el curso estaba muy bien organizado. Gracias." \n"Gracias a este curso hemos tomado contacto con detalles de Salesforce que desconocíamos\, lo que sin duda será una gran fuente de ideas a poner en práctica." \n"El curso me ha iniciado en el universo fascinante de Salesforce y me proporcionó una visión de las oportunidades que puedas tener una vez certificado." \n"Aunque manejaba la herramienta en mi empresa\, siempre me había intimidado mirar detrás del telón de la administración\, pero el curso no sólo me ha preparado para el examen\, si no que me ha hecho ver que no es algo tan feo e inmanejable y me ha permitido ver la potencial utilidad que puedo dar a mi empresa con estos conocimientos." \n"La forma ideal para iniciarse en un campo apasionante como es el mundo de Salesforce."
URL:https://www.cloudcoachers.com/en/curso/salesforce-administration-65/
LOCATION:Virtual
END:VEVENT
BEGIN:VEVENT
DTSTART;TZID=Europe/Madrid:20240722T160000
DTEND;TZID=Europe/Madrid:20240805T200000
DTSTAMP:20260425T175512
CREATED:20250917T100924Z
LAST-MODIFIED:20250917T120924Z
UID:10892-1721664000-1722888000@www.cloudcoachers.com
SUMMARY:Marketing Cloud Email + Admin
DESCRIPTION:Información del curso:  \n\nCurso híbrido (presencial o en remoto) de Salesforce Marketing Cloud Essentials para profesionales de Marketing.\nRequisitos: se recomienda tener conocimientos de Email Marketing y Digital Marketing. \nEl "voucher" o derecho a presentarse al examen oficial de Certificación es opcional a la formación. \nEste curso cubre Marketing Cloud Email Specialist + Salesforce Certified Marketing Cloud Engagement Administrator.\nDuración: 32 horas\, en 8 sesiones de 4 horas. \nHorario: 16:00 a 20:00h de lunes a jueves(*).\nInicio: 22 de Julio. Finaliza: 5 de Agosto. \nEl 25/07 por ser festivo NO se impartirá el curso. \n\n​(*) No se imparte el curso viernes\, sábado y domingos.  \n​ \nObjetivos:  \nConocer los mecanismos de Salesforce Marketing Cloud para el diseño y la automatización del proceso de envío de comunicaciones masivas multicanal (email\, móvil\, social y web) y el seguimiento y control del proceso. Foco en Journey Builder y Automation. Administrar y configurar la plataforma Marketing Cloud.  \n​ \nTemario:  \n\nMarketing Cloud Overview\nSubscriber and Data Management\nEmail Marketing Best Practices\nContent Creation and Delivery\nMarketing Automation\nInsights and Analytics\nSet up and Products\nDigital Marketing Proficiency\nChannel Management\nMaintenance\n\n​ \n¿Por qué hacer este curso?  \nPara aprender todo acerca de buenas prácticas sobre email marketing\, incluyendo el diseño de mensajes y el manejo de datos y suscriptores. Además\, aprenderás a configurar la herramienta y sus productos. \n​ \n¿A quién va dirigido? \nA todos aquellos especialistas en email marketing que gestionan canales de marketing en su organización. No se necesita experiencia previa en Marketing Cloud\, por lo que es un buen punto de partida para nuevos usuarios o para usuarios de la herramienta que buscan mejorar su uso. ​ \n \nLo que dicen nuestros alumnos: \n​ \n"Cloud Coachers supera las expectativas en cada curso\, gracias a un catálogo completo para todos los niveles\, y coachers con gran conocimiento y experiencia. Prima la calidad y cercanía humana durante las sesiones\, para acometer con seguridad la certificación!" \n"Ha sido muy positivo contar con una instructora que aportase su experiencia en Marketing en general y no solo el conocimiento en MKT Cloud en particular." \n"La experiencia vivida con Cloud Coachers durante el curso de Salesforce Marketing Cloud Essentials ha sido fantástica. Muy recomendables por el alto conocimiento sobre Email Marketing y Social Studio y su amplia experiencia en Marketing." \n"El curso esta genial y es un intensivo perfecto para aprender "metiéndote caña en casa". Se tocan los aspecto esenciales (Marketing Cloud Essentials)." \n"Muy buena metodología\, muy buena preparación de los profesores\, muy buena la resolución de problemas\, etc etc. Si puedo\, repito." \n"Cloud Coachers es "la escuela" para estudiar herramientas Salesforce\, sin duda. Los conozco desde hace 3 años y he realizado tres cursos de diferentes nubes de Salesforce\, con tres profesores distintos: cada curso ha sido un acierto\, los instructores son excelentes\, tienen un gran conocimiento de las nubes y mucha experiencia como consultores en el mundo empresarial. En mi opinión\, un lujo tenerles como guías en mi propio customer journey." \n​
URL:https://www.cloudcoachers.com/en/curso/marketing-cloud-email-admin-41/
LOCATION:Virtual
END:VEVENT
BEGIN:VEVENT
DTSTART;TZID=Europe/Madrid:20240729T170000
DTEND;TZID=Europe/Madrid:20240801T190000
DTSTAMP:20260425T175512
CREATED:20240805T115333Z
LAST-MODIFIED:20240805T135333Z
UID:10826-1722272400-1722538800@www.cloudcoachers.com
SUMMARY:Bootcamp Associate IA
DESCRIPTION:Información del curso:  \n\nCurso híbrido (en remoto o presencial)\nDuración: 6 horas\nRequisitos: A personas con experiencia o interés en programar en Salesforce.\n\n​ \nObjetivos:  \nEl objetivo del curso es proporcionar conocimiento de los principios de la IA de Salesforce\, además de aportar conocimiento sobre la gestión de datos\, las consideraciones de seguridad\, herramientas comerciales y de productividad\, además de Salesforce Customer 360. \n​ \nTemario del curso:  \n\nAI Fundamentals\nAI Capabilities in CRM\nEthical Considerations of AI\nData for IA\n\n \n¿Por qué hacer este curso? \n  \n \n​
URL:https://www.cloudcoachers.com/en/curso/bootcamp-associate-ia-2/
LOCATION:Virtual
END:VEVENT
BEGIN:VEVENT
DTSTART;TZID=Europe/Madrid:20240819T160000
DTEND;TZID=Europe/Madrid:20240829T200000
DTSTAMP:20260425T175513
CREATED:20250917T100959Z
LAST-MODIFIED:20250917T120959Z
UID:10896-1724083200-1724961600@www.cloudcoachers.com
SUMMARY:SF Developer I
DESCRIPTION:Información del curso:  \n\nCurso híbrido (en remoto o presencial)\nDuración: 32 horas	8 jornadas de 4 horas\nHorario: de lunes a jueves\, de 16.00 a 20.00h.\nRequisitos: A personas con experiencia o interés en programar en Salesforce.\n\n​ \nObjetivos:  \n\nConocer la Plataforma Force.com en sus elementos más importantes desde el punto de vista de un desarrollador de aplicaciones.\nAdquirir las habilidades para el desarrollo de aplicaciones de forma programática sobre la plataforma Force.com utilizando Apex\, Visualforce y Lightning components.\n\n​ \nTemario del curso:  \n\nIntroducing Force.com Platform \nDeclarative building applications \nIntroduction to Apex and Visualforce \nApex language fundamentals \nDebug \nWorking with Data \nRetrieve Language (SOQL & SOSL) \nDML Language \nInvoking Apex \nTriggers \nApex transactions \nCall Apex from Lightning Process Builder \nVisualforce \nControllers \nStatic resources & Field sets \nVisualforce Components \nTesting and Deploying Tools \nCoverage \nConcepts of Salesforce Lightning \nDevelop a lightning component\n\n \n¿Por qué hacer este curso? \nPara poder formarte como desarrollador en los diferentes lenguajes de programación de Salesforce.  \nPodrás poner en practica los conocimientos adquirido durante las clases \nAdquirirás los conocimientos necesarios para obtener la certificación de Salesforce Certified Platform Developer. \nTendrás un tutor dedicado a solucionarte las dudas que puedan surgir a lo largo del curso.
URL:https://www.cloudcoachers.com/en/curso/sf-developer-i-21/
LOCATION:Virtual
END:VEVENT
END:VCALENDAR