BEGIN:VCALENDAR
VERSION:2.0
PRODID:-//Cloud Coachers - ECPv6.10.1.1//NONSGML v1.0//EN
CALSCALE:GREGORIAN
METHOD:PUBLISH
X-ORIGINAL-URL:https://www.cloudcoachers.com/en/
X-WR-CALDESC:Events for Cloud Coachers
REFRESH-INTERVAL;VALUE=DURATION:PT1H
X-Robots-Tag:noindex
X-PUBLISHED-TTL:PT1H
BEGIN:VTIMEZONE
TZID:Europe/Madrid
BEGIN:DAYLIGHT
TZOFFSETFROM:+0100
TZOFFSETTO:+0200
TZNAME:CEST
DTSTART:20240331T010000
END:DAYLIGHT
BEGIN:STANDARD
TZOFFSETFROM:+0200
TZOFFSETTO:+0100
TZNAME:CET
DTSTART:20241027T010000
END:STANDARD
END:VTIMEZONE
BEGIN:VEVENT
DTSTART;TZID=Europe/Madrid:20240909T090000
DTEND;TZID=Europe/Madrid:20240913T140000
DTSTAMP:20260425T162622
CREATED:20250917T101106Z
LAST-MODIFIED:20250917T121106Z
UID:10593-1725872400-1726236000@www.cloudcoachers.com
SUMMARY:Marketing Cloud Developer
DESCRIPTION:Información del curso:  \n\nCurso híbrido: en remoto o presencial en nuestras oficinas.\nDuración: 15 horas\, en 3 sesiones de 5 horas\nHorario: de 9 a 14h\nEl voucher para presentarte al examen de certificación es opcional.\nPre-requisitos: para la certificación es necesario tener la certificación de Marketing Cloud Email Specialist. Para aprovechar el curso se requiere conocimiento profundo del funcionamiento de Marketing Cloud.\n\n​ \nObjetivos:  \nAprender los conceptos más técnicos de Marketing Cloud\, de cara a su implementación y explotación avanzada.  \nAMPscript\, REST y SOAP APIs\, SQL\, SSJS\, gestión y manipulación de datos. \n​ \nTemario: \nConfiguration \nData structure \nContact Builder   \nTracking info \nExtract\, transform\, load data \nJourney Builder entry sources \nEmail Deliverability \nSecurity \nExclusions \nSend Logging \nWeb Analytics Connector \nProgramming languages \nMobile Connect – Web Pages \nSOAP and REST API \n​ \n¿Por qué hacer este curso?  \nPorque ya conoces la herramienta y quieres llevar al máximo exponente las personalizaciones e integraciones con otras plataformas. \nTe ayudará a entender cómo funciona por detrás Marketing Cloud. \n​ \n¿A quién va dirigido?  \nA perfiles técnicos que tengan ya conocimiento extenso de Marketing Cloud y que quieran integrar datos internos y personalizar las comunicaciones y envios dentro de Marketing Cloud.  \nRecomendable tener nociones basicas de programación. \n \n​
URL:https://www.cloudcoachers.com/en/curso/marketing-cloud-developer-8/
LOCATION:Virtual
END:VEVENT
BEGIN:VEVENT
DTSTART;TZID=Europe/Madrid:20240916T090000
DTEND;TZID=Europe/Madrid:20240920T150000
DTSTAMP:20260425T162624
CREATED:20250917T101057Z
LAST-MODIFIED:20250917T121057Z
UID:10572-1726477200-1726844400@www.cloudcoachers.com
SUMMARY:Marketing Cloud Email + Admin
DESCRIPTION:Información del curso:  \n\nCurso híbrido (presencial o en remoto) de Salesforce Marketing Cloud Essentials para profesionales de Marketing.\nRequisitos: se recomienda tener conocimientos de Email Marketing y Digital Marketing. \nEl "voucher" o derecho a presentarse al examen oficial de Certificación es opcional a la formación. \nDuración: 30 horas en 5 jornadas de 6 horas.\nHorario: de lunes a viernes\, de 9.00 a 15.00h.\nEste curso cubre Marketing Cloud Email Specialist (4 días) + Salesforce Certified Marketing Cloud Engagement Administrator (1 día)\n\n​ \nObjetivos:  \nConocer los mecanismos de Salesforce Marketing Cloud para el diseño y la automatización del proceso de envío de comunicaciones masivas multicanal (email\, móvil\, social y web) y el seguimiento y control del proceso. Foco en Journey Builder y Automation. Administrar y configurar la plataforma Marketing Cloud.  \n​ \nTemario:  \n\nMarketing Cloud Overview\nSubscriber and Data Management\nEmail Marketing Best Practices\nContent Creation and Delivery\nMarketing Automation\nInsights and Analytics\nSet up and Products\nDigital Marketing Proficiency\nChannel Management\nMaintenance\n\n​ \n¿Por qué hacer este curso?  \nPara aprender todo acerca de buenas prácticas sobre email marketing\, incluyendo el diseño de mensajes y el manejo de datos y suscriptores. Además\, aprenderás a configurar la herramienta y sus productos. \n​ \n¿A quién va dirigido? \nA todos aquellos especialistas en email marketing que gestionan canales de marketing en su organización. No se necesita experiencia previa en Marketing Cloud\, por lo que es un buen punto de partida para nuevos usuarios o para usuarios de la herramienta que buscan mejorar su uso. ​ \n \nLo que dicen nuestros alumnos: \n​ \n"Cloud Coachers supera las expectativas en cada curso\, gracias a un catálogo completo para todos los niveles\, y coachers con gran conocimiento y experiencia. Prima la calidad y cercanía humana durante las sesiones\, para acometer con seguridad la certificación!" \n"Ha sido muy positivo contar con una instructora que aportase su experiencia en Marketing en general y no solo el conocimiento en MKT Cloud en particular." \n"La experiencia vivida con Cloud Coachers durante el curso de Salesforce Marketing Cloud Essentials ha sido fantástica. Muy recomendables por el alto conocimiento sobre Email Marketing y Social Studio y su amplia experiencia en Marketing." \n"El curso esta genial y es un intensivo perfecto para aprender "metiéndote caña en casa". Se tocan los aspecto esenciales (Marketing Cloud Essentials)." \n"Muy buena metodología\, muy buena preparación de los profesores\, muy buena la resolución de problemas\, etc etc. Si puedo\, repito." \n"Cloud Coachers es "la escuela" para estudiar herramientas Salesforce\, sin duda. Los conozco desde hace 3 años y he realizado tres cursos de diferentes nubes de Salesforce\, con tres profesores distintos: cada curso ha sido un acierto\, los instructores son excelentes\, tienen un gran conocimiento de las nubes y mucha experiencia como consultores en el mundo empresarial. En mi opinión\, un lujo tenerles como guías en mi propio customer journey." \n​ \n​
URL:https://www.cloudcoachers.com/en/curso/marketing-cloud-email-admin-35/
LOCATION:Virtual
END:VEVENT
BEGIN:VEVENT
DTSTART;TZID=Europe/Madrid:20240923T090000
DTEND;TZID=Europe/Madrid:20240925T140000
DTSTAMP:20260425T162625
CREATED:20250917T101038Z
LAST-MODIFIED:20250917T121038Z
UID:10857-1727082000-1727272800@www.cloudcoachers.com
SUMMARY:Salesforce Customer Data Platform (CDP)
DESCRIPTION:Información del curso:  \n\nCurso híbrido (en remoto o presencial)\nDuración: 15 horas\, en 3 sesiones de 5 horas\nHorario: de 9 a 14h.\n\n \nObjetivos:  \nEntender qué es Salesforce Data Cloud (aka CDP)\, cuál es el valor que puede aportar a la compañía e identificar casos de uso típicos. \nAdquirir las habilidades necesarias para administrar y configurar la plataforma correctamente para sacarle el máximo partido.  \n \nTemario:  \n\nOverview\nSetup and Administration\nData Ingestion\nData Modelling\nIdentity Resolution\nSegmentation & Insights\nActivation\nAPI and Integrations\n\n \n¿Por qué hacer este curso?  \nEste curso da una visión global y completa sobre cómo configurar Data Cloud y cómo sacarle el máximo rendimiento. Los ejercicios prácticos refuerzan lo visto en la teoría y en clase se va guiando al alumno y resolviendo cualquier duda.  \n \n¿A quién va dirigido?  \nA consultores con experiencia en la plataforma de Salesforce\, Marketing Cloud y modelos de datos\, que quieran poder implantar o administrar Data Cloud.  \nA clientes finales que estén en proceso de implantar Data Cloud y quieran conocer las capacidades de la herramienta en detalle\, mantener el conocimiento de manera interna\, y ser capaces de exigir con conocimiento de causa.  \nA consultores o clientes que busquen conseguir la nueva Certificación de Data Cloud.
URL:https://www.cloudcoachers.com/en/curso/salesforce-customer-data-platform-cdp-6/
LOCATION:Virtual
END:VEVENT
END:VCALENDAR